BEGIN:VCALENDAR
VERSION:2.0
PRODID:-//wp-events-plugin.com//7.2.3.1//EN
BEGIN:VEVENT
UID:61@fabriqueurs.com
DTSTART:20180908T090000Z
DTEND:20180908T170000Z
DTSTAMP:20180823T144824Z
URL:https://www.fabriqueurs.com/evenements/forum-des-associations-de-malak
 off/
SUMMARY:Les Fabriqueurs au Forum des Associations de Malakoff
DESCRIPTION:Atelier libre\nOuvert aux membres de l'association uniquement.
ATTACH;FMTTYPE=image/jpeg:https://www.fabriqueurs.com/wp-content/uploads/2
 018/08/week_end_associations_detail.jpg
CATEGORIES:Hors les murs
LOCATION:Ecole Jean Jaurès\, 11 avenue Jules-Ferry \, Malakoff\, 92240\, F
 rance
X-APPLE-STRUCTURED-LOCATION;VALUE=URI;X-ADDRESS=11 avenue Jules-Ferry \, Ma
 lakoff\, 92240\, France;X-APPLE-RADIUS=100;X-TITLE=Ecole Jean Jaurès:geo:
 0,0
END:VEVENT
END:VCALENDAR